BEGIN:VCALENDAR
VERSION:2.0
PRODID:-//Einfach fotografieren lernen mit Fotokursen und Fotoworkshops von Blende2-Hamburg
CALSCALE:GREGORIAN
METHOD:PUBLISH
X-WR-CALNAME:Einfach fotografieren lernen mit Fotokursen und Fotoworkshops von Blende2-Hamburg
X-ORIGINAL-URL:https://blende2-hamburg.de/produkt/adobe-lightroom-einfuehrungskurs-inkl-nik-collectiondobe-lightroom-einfuehrungskurs-26-januar-2020/
X-WR-CALDESC:Adobe Lightroom &#8211; Einführungskurs &#8211; inkl. NIK Collection- 26. Januar 2020
BEGIN:VEVENT
DTSTART;TZID=Europe/Helsinki:20200126T110000
DTEND;TZID=Europe/Helsinki:20200126T170000
SUMMARY:Adobe Lightroom &#8211; Einführungskurs &#8211; inkl. NIK Collection- 26. Januar 2020
DESCRIPTION:
URL:https://blende2-hamburg.de/produkt/adobe-lightroom-einfuehrungskurs-inkl-nik-collectiondobe-lightroom-einfuehrungskurs-26-januar-2020/
LOCATION:Graumannsweg 21
END:VEVENT
END:VCALENDAR
